Package: HicAggR Version: 1.3.0 Command: rm -rf HicAggR.buildbin-libdir && mkdir HicAggR.buildbin-libdir && /Users/biocbuild/BBS/utils/build-universal.sh HicAggR_1.3.0.tar.gz /Library/Frameworks/R.framework/Resources/bin/R HicAggR.buildbin-libdir StartedAt: 2025-02-10 00:57:29 -0500 (Mon, 10 Feb 2025) EndedAt: 2025-02-10 00:58:11 -0500 (Mon, 10 Feb 2025) EllapsedTime: 41.5 seconds RetCode: 0 Status: OK PackageFile: HicAggR_1.3.0.tgz PackageFileSize: 3.239 MiB