Package: HicAggR Version: 1.3.0 Command: /Library/Frameworks/R.framework/Resources/bin/R CMD check --install=check:HicAggR.install-out.txt --library=/Library/Frameworks/R.framework/Resources/library --no-vignettes --timings HicAggR_1.3.0.tar.gz StartedAt: 2025-02-09 21:14:25 -0500 (Sun, 09 Feb 2025) EndedAt: 2025-02-09 21:23:21 -0500 (Sun, 09 Feb 2025) EllapsedTime: 535.9 seconds RetCode: 0 Status: WARNINGS CheckDir: HicAggR.Rcheck Warnings: 1