Package: HicAggR Version: 1.3.0 Command: /home/biocbuild/bbs-3.21-bioc/R/bin/R CMD check --install=check:HicAggR.install-out.txt --library=/home/biocbuild/bbs-3.21-bioc/R/site-library --timings HicAggR_1.3.0.tar.gz StartedAt: 2025-02-09 23:05:57 -0500 (Sun, 09 Feb 2025) EndedAt: 2025-02-09 23:18:24 -0500 (Sun, 09 Feb 2025) EllapsedTime: 747.1 seconds RetCode: 0 Status: WARNINGS CheckDir: HicAggR.Rcheck Warnings: 1