Package: HicAggR Version: 1.3.0 Command: /home/biocbuild/bbs-3.21-bioc/R/bin/R CMD INSTALL HicAggR StartedAt: 2025-02-04 15:27:08 -0500 (Tue, 04 Feb 2025) EndedAt: 2025-02-04 15:27:33 -0500 (Tue, 04 Feb 2025) EllapsedTime: 25.9 seconds RetCode: 0 Status: OK