Package: HicAggR Version: 1.3.0 Command: rm -rf HicAggR.buildbin-libdir && mkdir HicAggR.buildbin-libdir && E:\biocbuild\bbs-3.21-bioc\R\bin\R.exe CMD INSTALL --build --library=HicAggR.buildbin-libdir HicAggR_1.3.0.tar.gz StartedAt: 2025-02-05 08:06:56 -0500 (Wed, 05 Feb 2025) EndedAt: 2025-02-05 08:07:43 -0500 (Wed, 05 Feb 2025) EllapsedTime: 47.8 seconds RetCode: 0 Status: OK PackageFile: HicAggR_1.3.0.zip PackageFileSize: 2.92 MiB