Package: HicAggR Version: 1.3.0 Command: E:\biocbuild\bbs-3.21-bioc\R\bin\R.exe CMD check --no-multiarch --install=check:HicAggR.install-out.txt --library=E:\biocbuild\bbs-3.21-bioc\R\library --no-vignettes --timings HicAggR_1.3.0.tar.gz StartedAt: 2025-02-10 01:54:14 -0500 (Mon, 10 Feb 2025) EndedAt: 2025-02-10 02:03:33 -0500 (Mon, 10 Feb 2025) EllapsedTime: 559.1 seconds RetCode: 0 Status: WARNINGS CheckDir: HicAggR.Rcheck Warnings: 1