Package: HicAggR Version: 1.3.0 Command: E:\biocbuild\bbs-3.21-bioc\R\bin\R.exe CMD INSTALL HicAggR StartedAt: 2025-02-09 16:22:08 -0500 (Sun, 09 Feb 2025) EndedAt: 2025-02-09 16:22:59 -0500 (Sun, 09 Feb 2025) EllapsedTime: 51.2 seconds RetCode: 0 Status: OK