Package: HilbertVis Version: 1.65.0 Command: rm -rf HilbertVis.buildbin-libdir && mkdir HilbertVis.buildbin-libdir && /Users/biocbuild/BBS/utils/build-universal.sh HilbertVis_1.65.0.tar.gz /Library/Frameworks/R.framework/Resources/bin/R HilbertVis.buildbin-libdir StartedAt: 2025-02-09 22:17:27 -0500 (Sun, 09 Feb 2025) EndedAt: 2025-02-09 22:17:29 -0500 (Sun, 09 Feb 2025) EllapsedTime: 2.1 seconds RetCode: 0 Status: OK PackageFile: HilbertVis_1.65.0.tgz PackageFileSize: 1.118 MiB