Package: HilbertVis Version: 1.65.0 Command: /Library/Frameworks/R.framework/Resources/bin/R CMD build --keep-empty-dirs --no-resave-data HilbertVis StartedAt: 2025-02-09 16:37:24 -0500 (Sun, 09 Feb 2025) EndedAt: 2025-02-09 16:37:29 -0500 (Sun, 09 Feb 2025) EllapsedTime: 5.1 seconds RetCode: 0 Status: OK PackageFile: HilbertVis_1.65.0.tar.gz PackageFileSize: 1.206 MiB