Package: HilbertVis Version: 1.65.0 Command: /Library/Frameworks/R.framework/Resources/bin/R CMD INSTALL HilbertVis StartedAt: 2025-02-09 15:02:12 -0500 (Sun, 09 Feb 2025) EndedAt: 2025-02-09 15:02:13 -0500 (Sun, 09 Feb 2025) EllapsedTime: 1.6 seconds RetCode: 0 Status: OK