Package: HilbertVis Version: 1.65.0 Command: /home/biocbuild/bbs-3.21-bioc/R/bin/R CMD check --install=check:HilbertVis.install-out.txt --library=/home/biocbuild/bbs-3.21-bioc/R/site-library --timings HilbertVis_1.65.0.tar.gz StartedAt: 2025-02-09 23:09:53 -0500 (Sun, 09 Feb 2025) EndedAt: 2025-02-09 23:10:17 -0500 (Sun, 09 Feb 2025) EllapsedTime: 24.0 seconds RetCode: 0 Status: WARNINGS CheckDir: HilbertVis.Rcheck Warnings: 1