Package: HilbertVis Version: 1.65.0 Command: E:\biocbuild\bbs-3.21-bioc\R\bin\R.exe CMD check --no-multiarch --install=check:HilbertVis.install-out.txt --library=E:\biocbuild\bbs-3.21-bioc\R\library --no-vignettes --timings HilbertVis_1.65.0.tar.gz StartedAt: 2025-02-10 01:57:24 -0500 (Mon, 10 Feb 2025) EndedAt: 2025-02-10 01:58:00 -0500 (Mon, 10 Feb 2025) EllapsedTime: 36.2 seconds RetCode: 0 Status: WARNINGS CheckDir: HilbertVis.Rcheck Warnings: 1