Package: HilbertVisGUI Version: 1.65.0 Command: /home/biocbuild/R/R/bin/R CMD INSTALL HilbertVisGUI StartedAt: 2025-01-29 19:32:59 -0000 (Wed, 29 Jan 2025) EndedAt: 2025-01-29 19:33:28 -0000 (Wed, 29 Jan 2025) EllapsedTime: 28.6 seconds RetCode: 1 Status: ERROR