Package: HilbertVisGUI Version: 1.65.0 Command: /home/biocbuild/bbs-3.21-bioc/R/bin/R CMD build --keep-empty-dirs --no-resave-data HilbertVisGUI StartedAt: 2025-02-09 17:39:33 -0500 (Sun, 09 Feb 2025) EndedAt: 2025-02-09 17:39:55 -0500 (Sun, 09 Feb 2025) EllapsedTime: 22.0 seconds RetCode: 0 Status: OK PackageFile: HilbertVisGUI_1.65.0.tar.gz PackageFileSize: 147.5 KiB