Package: IFAA Version: 1.9.0 Command: /Library/Frameworks/R.framework/Resources/bin/R CMD build --keep-empty-dirs --no-resave-data IFAA StartedAt: 2025-02-04 16:40:05 -0500 (Tue, 04 Feb 2025) EndedAt: 2025-02-04 16:40:50 -0500 (Tue, 04 Feb 2025) EllapsedTime: 45.5 seconds RetCode: 0 Status: OK PackageFile: IFAA_1.9.0.tar.gz PackageFileSize: 335.2 KiB