Package: IFAA Version: 1.9.0 Command: /home/biocbuild/R/R/bin/R CMD INSTALL IFAA StartedAt: 2025-01-29 20:15:56 -0000 (Wed, 29 Jan 2025) EndedAt: 2025-01-29 20:16:33 -0000 (Wed, 29 Jan 2025) EllapsedTime: 36.5 seconds RetCode: 0 Status: OK