Package: IFAA Version: 1.9.0 Command: /Library/Frameworks/R.framework/Resources/bin/R CMD INSTALL IFAA StartedAt: 2025-02-09 15:31:45 -0500 (Sun, 09 Feb 2025) EndedAt: 2025-02-09 15:32:22 -0500 (Sun, 09 Feb 2025) EllapsedTime: 36.7 seconds RetCode: 0 Status: OK