Package: IFAA Version: 1.9.0 Command: /home/biocbuild/bbs-3.21-bioc/R/bin/R CMD INSTALL IFAA StartedAt: 2025-02-04 15:30:15 -0500 (Tue, 04 Feb 2025) EndedAt: 2025-02-04 15:30:42 -0500 (Tue, 04 Feb 2025) EllapsedTime: 27.0 seconds RetCode: 0 Status: OK