Package: IFAA Version: 1.9.0 Command: E:\biocbuild\bbs-3.21-bioc\R\bin\R.exe CMD INSTALL IFAA StartedAt: 2025-02-09 16:09:28 -0500 (Sun, 09 Feb 2025) EndedAt: 2025-02-09 16:10:00 -0500 (Sun, 09 Feb 2025) EllapsedTime: 32.1 seconds RetCode: 0 Status: OK