Package: ILoReg Version: 1.17.0 Command: /Library/Frameworks/R.framework/Resources/bin/R CMD build --keep-empty-dirs --no-resave-data ILoReg StartedAt: 2025-02-09 16:40:23 -0500 (Sun, 09 Feb 2025) EndedAt: 2025-02-09 16:41:16 -0500 (Sun, 09 Feb 2025) EllapsedTime: 53.6 seconds RetCode: 0 Status: OK PackageFile: ILoReg_1.17.0.tar.gz PackageFileSize: 2.763 MiB