Package: ILoReg Version: 1.17.0 Command: /Library/Frameworks/R.framework/Resources/bin/R CMD check --install=check:ILoReg.install-out.txt --library=/Library/Frameworks/R.framework/Resources/library --no-vignettes --timings ILoReg_1.17.0.tar.gz StartedAt: 2025-02-09 19:42:19 -0500 (Sun, 09 Feb 2025) EndedAt: 2025-02-09 19:44:15 -0500 (Sun, 09 Feb 2025) EllapsedTime: 116.4 seconds RetCode: 0 Status: WARNINGS CheckDir: ILoReg.Rcheck Warnings: 2