Package: ILoReg Version: 1.17.0 Command: /Library/Frameworks/R.framework/Resources/bin/R CMD INSTALL ILoReg StartedAt: 2025-02-09 15:29:25 -0500 (Sun, 09 Feb 2025) EndedAt: 2025-02-09 15:29:37 -0500 (Sun, 09 Feb 2025) EllapsedTime: 12.3 seconds RetCode: 0 Status: OK