Package: ILoReg Version: 1.17.0 Command: /Library/Frameworks/R.framework/Resources/bin/R CMD INSTALL ILoReg StartedAt: 2025-02-10 15:44:22 -0500 (Mon, 10 Feb 2025) EndedAt: 2025-02-10 15:45:00 -0500 (Mon, 10 Feb 2025) EllapsedTime: 38.8 seconds RetCode: 0 Status: OK