Package: ILoReg Version: 1.17.0 Command: /home/biocbuild/bbs-3.21-bioc/R/bin/R CMD build --keep-empty-dirs --no-resave-data ILoReg StartedAt: 2025-02-09 17:43:17 -0500 (Sun, 09 Feb 2025) EndedAt: 2025-02-09 17:45:47 -0500 (Sun, 09 Feb 2025) EllapsedTime: 150.2 seconds RetCode: 0 Status: OK PackageFile: ILoReg_1.17.0.tar.gz PackageFileSize: 2.667 MiB