Package: ILoReg Version: 1.17.0 Command: rm -rf ILoReg.buildbin-libdir && mkdir ILoReg.buildbin-libdir && E:\biocbuild\bbs-3.21-bioc\R\bin\R.exe CMD INSTALL --build --library=ILoReg.buildbin-libdir ILoReg_1.17.0.tar.gz StartedAt: 2025-02-11 08:10:10 -0500 (Tue, 11 Feb 2025) EndedAt: 2025-02-11 08:11:13 -0500 (Tue, 11 Feb 2025) EllapsedTime: 62.1 seconds RetCode: 0 Status: OK PackageFile: ILoReg_1.17.0.zip PackageFileSize: 2.11 MiB