Package: ILoReg Version: 1.17.0 Command: chmod a+r ILoReg -R && E:\biocbuild\bbs-3.21-bioc\R\bin\R.exe CMD build --keep-empty-dirs --no-resave-data ILoReg StartedAt: 2025-02-10 19:32:09 -0500 (Mon, 10 Feb 2025) EndedAt: 2025-02-10 19:35:43 -0500 (Mon, 10 Feb 2025) EllapsedTime: 214.1 seconds RetCode: 0 Status: OK PackageFile: ILoReg_1.17.0.tar.gz PackageFileSize: 1.742 MiB