Package: ILoReg Version: 1.17.0 Command: E:\biocbuild\bbs-3.21-bioc\R\bin\R.exe CMD check --no-multiarch --install=check:ILoReg.install-out.txt --library=E:\biocbuild\bbs-3.21-bioc\R\library --no-vignettes --timings ILoReg_1.17.0.tar.gz StartedAt: 2025-02-11 02:17:57 -0500 (Tue, 11 Feb 2025) EndedAt: 2025-02-11 02:24:01 -0500 (Tue, 11 Feb 2025) EllapsedTime: 363.8 seconds RetCode: 0 Status: WARNINGS CheckDir: ILoReg.Rcheck Warnings: 2