Package: ILoReg Version: 1.17.0 Command: E:\biocbuild\bbs-3.21-bioc\R\bin\R.exe CMD INSTALL ILoReg StartedAt: 2025-02-10 17:08:50 -0500 (Mon, 10 Feb 2025) EndedAt: 2025-02-10 17:09:39 -0500 (Mon, 10 Feb 2025) EllapsedTime: 49.6 seconds RetCode: 0 Status: OK