Package: IMMAN Version: 1.27.0 Command: /home/biocbuild/R/R/bin/R CMD build --keep-empty-dirs --no-resave-data IMMAN StartedAt: 2025-01-28 23:43:13 -0000 (Tue, 28 Jan 2025) EndedAt: 2025-01-28 23:46:37 -0000 (Tue, 28 Jan 2025) EllapsedTime: 203.2 seconds RetCode: 0 Status: OK PackageFile: IMMAN_1.27.0.tar.gz PackageFileSize: 31.33 KiB