Package: IMMAN Version: 1.27.0 Command: /home/biocbuild/bbs-3.21-bioc/R/bin/R CMD check --install=check:IMMAN.install-out.txt --library=/home/biocbuild/bbs-3.21-bioc/R/site-library --timings IMMAN_1.27.0.tar.gz StartedAt: 2025-02-12 23:19:54 -0500 (Wed, 12 Feb 2025) EndedAt: 2025-02-12 23:29:24 -0500 (Wed, 12 Feb 2025) EllapsedTime: 570.6 seconds RetCode: 0 Status: OK CheckDir: IMMAN.Rcheck Warnings: 0