Package: IMMAN Version: 1.27.0 Command: chmod a+r IMMAN -R && E:\biocbuild\bbs-3.21-bioc\R\bin\R.exe CMD build --keep-empty-dirs --no-resave-data IMMAN StartedAt: 2025-02-12 19:25:51 -0500 (Wed, 12 Feb 2025) EndedAt: 2025-02-12 19:28:10 -0500 (Wed, 12 Feb 2025) EllapsedTime: 139.7 seconds RetCode: 0 Status: OK PackageFile: IMMAN_1.27.0.tar.gz PackageFileSize: 26.44 KiB