Package: IMPCdata Version: 1.43.0 Command: rm -rf IMPCdata.buildbin-libdir && mkdir IMPCdata.buildbin-libdir && /Users/biocbuild/BBS/utils/build-universal.sh IMPCdata_1.43.0.tar.gz /Library/Frameworks/R.framework/Resources/bin/R IMPCdata.buildbin-libdir StartedAt: 2025-02-09 22:18:01 -0500 (Sun, 09 Feb 2025) EndedAt: 2025-02-09 22:18:03 -0500 (Sun, 09 Feb 2025) EllapsedTime: 2.1 seconds RetCode: 0 Status: OK PackageFile: IMPCdata_1.43.0.tgz PackageFileSize: 158.7 KiB