Package: IMPCdata Version: 1.43.0 Command: /Library/Frameworks/R.framework/Resources/bin/R CMD build --keep-empty-dirs --no-resave-data IMPCdata StartedAt: 2025-02-12 16:41:42 -0500 (Wed, 12 Feb 2025) EndedAt: 2025-02-12 16:42:52 -0500 (Wed, 12 Feb 2025) EllapsedTime: 70.7 seconds RetCode: 0 Status: OK PackageFile: IMPCdata_1.43.0.tar.gz PackageFileSize: 107.3 KiB