Package: IMPCdata Version: 1.43.0 Command: /Library/Frameworks/R.framework/Resources/bin/R CMD check --install=check:IMPCdata.install-out.txt --library=/Library/Frameworks/R.framework/Resources/library --no-vignettes --timings IMPCdata_1.43.0.tar.gz StartedAt: 2025-02-09 19:43:12 -0500 (Sun, 09 Feb 2025) EndedAt: 2025-02-09 19:44:17 -0500 (Sun, 09 Feb 2025) EllapsedTime: 64.8 seconds RetCode: 0 Status: OK CheckDir: IMPCdata.Rcheck Warnings: 0