Package: IMPCdata Version: 1.43.0 Command: /home/biocbuild/R/R/bin/R CMD build --keep-empty-dirs --no-resave-data IMPCdata StartedAt: 2025-01-28 23:44:21 -0000 (Tue, 28 Jan 2025) EndedAt: 2025-01-28 23:45:56 -0000 (Tue, 28 Jan 2025) EllapsedTime: 94.1 seconds RetCode: 0 Status: OK PackageFile: IMPCdata_1.43.0.tar.gz PackageFileSize: 104.4 KiB