Package: IMPCdata Version: 1.43.0 Command: /home/biocbuild/bbs-3.21-bioc/R/bin/R CMD build --keep-empty-dirs --no-resave-data IMPCdata StartedAt: 2025-02-12 17:40:56 -0500 (Wed, 12 Feb 2025) EndedAt: 2025-02-12 17:42:06 -0500 (Wed, 12 Feb 2025) EllapsedTime: 70.1 seconds RetCode: 0 Status: OK PackageFile: IMPCdata_1.43.0.tar.gz PackageFileSize: 107.3 KiB