Package: IMPCdata Version: 1.43.0 Command: /home/biocbuild/bbs-3.21-bioc/R/bin/R CMD INSTALL IMPCdata StartedAt: 2025-02-09 15:04:20 -0500 (Sun, 09 Feb 2025) EndedAt: 2025-02-09 15:04:34 -0500 (Sun, 09 Feb 2025) EllapsedTime: 14.3 seconds RetCode: 0 Status: OK