Package: INPower Version: 1.43.0 Command: rm -rf INPower.buildbin-libdir && mkdir INPower.buildbin-libdir && /Users/biocbuild/BBS/utils/build-universal.sh INPower_1.43.0.tar.gz /Library/Frameworks/R.framework/Resources/bin/R INPower.buildbin-libdir StartedAt: 2025-02-10 00:58:45 -0500 (Mon, 10 Feb 2025) EndedAt: 2025-02-10 00:58:51 -0500 (Mon, 10 Feb 2025) EllapsedTime: 5.9 seconds RetCode: 0 Status: OK PackageFile: INPower_1.43.0.tgz PackageFileSize: 163.3 KiB