Package: INPower Version: 1.43.0 Command: rm -rf INPower.buildbin-libdir && mkdir INPower.buildbin-libdir && E:\biocbuild\bbs-3.21-bioc\R\bin\R.exe CMD INSTALL --build --library=INPower.buildbin-libdir INPower_1.43.0.tar.gz StartedAt: 2025-02-13 08:09:16 -0500 (Thu, 13 Feb 2025) EndedAt: 2025-02-13 08:09:21 -0500 (Thu, 13 Feb 2025) EllapsedTime: 5.5 seconds RetCode: 0 Status: OK PackageFile: INPower_1.43.0.zip PackageFileSize: 86.74 KiB