############################################################################## ############################################################################## ### ### Running command: ### ### /home/biocbuild/R/R/bin/R CMD check --install=check:INSPEcT.install-out.txt --library=/home/biocbuild/R/R/site-library --no-vignettes --timings INSPEcT_1.37.0.tar.gz ### ############################################################################## ############################################################################## * using log directory ‘/home/biocbuild/bbs-3.21-bioc/meat/INSPEcT.Rcheck’ * using R Under development (unstable) (2024-11-24 r87369) * using platform: aarch64-unknown-linux-gnu * R was compiled by aarch64-unknown-linux-gnu-gcc (GCC) 14.2.0 GNU Fortran (GCC) 14.2.0 * running under: openEuler 24.03 (LTS) * using session charset: UTF-8 * using option ‘--no-vignettes’ * checking for file ‘INSPEcT/DESCRIPTION’ ... OK * checking extension type ... Package * this is package ‘INSPEcT’ version ‘1.37.0’ * checking package namespace information ... OK * checking package dependencies ... OK * checking if this is a source package ... OK * checking if there is a namespace ... OK * checking for hidden files and directories ... OK * checking for portable file names ... OK * checking for sufficient/correct file permissions ... OK * checking whether package ‘INSPEcT’ can be installed ... OK * checking installed package size ... INFO installed size is 7.1Mb sub-directories of 1Mb or more: R 1.8Mb data 2.8Mb * checking package directory ... OK * checking ‘build’ directory ... OK * checking DESCRIPTION meta-information ... OK * checking top-level files ... OK * checking for left-over files ... OK * checking index information ... OK * checking package subdirectories ... OK * checking code files for non-ASCII characters ... OK * checking R files for syntax errors ... OK * checking whether the package can be loaded ... OK * checking whether the package can be loaded with stated dependencies ... OK * checking whether the package can be unloaded cleanly ... OK * checking whether the namespace can be loaded with stated dependencies ... OK * checking whether the namespace can be unloaded cleanly ... OK * checking loading without being on the library search path ... OK * checking dependencies in R code ... OK * checking S3 generic/method consistency ... OK * checking replacement functions ... OK * checking foreign function calls ... OK * checking R code for possible problems ... NOTE output_pars: no visible global function definition for ‘plot.new’ plotSingleRNADynamic: no visible global function definition for ‘lines’ Undefined global functions or variables: lines plot.new Consider adding importFrom("graphics", "lines", "plot.new") to your NAMESPACE file. * checking Rd files ... OK * checking Rd metadata ... OK * checking Rd cross-references ... NOTE Found the following Rd file(s) with Rd \link{} targets missing package anchors: INSPEcT-class.Rd: featureNames Please provide package anchors for all Rd \link{} targets not in the package itself and the base packages. * checking for missing documentation entries ... OK * checking for code/documentation mismatches ... OK * checking Rd \usage sections ... OK * checking Rd contents ... OK * checking for unstated dependencies in examples ... OK * checking contents of ‘data’ directory ... OK * checking data for non-ASCII characters ... OK * checking data for ASCII and uncompressed saves ... OK * checking files in ‘vignettes’ ... OK * checking examples ... OK Examples with CPU (user + system) or elapsed time > 5s user system elapsed makeSimDataset 122.477 0.463 123.196 quantifyExpressionsFromBAMs 46.821 0.199 47.760 INSPEcT_diffsteady-class 42.449 0.895 43.432 makeSimModel 41.619 0.092 41.796 rocThresholds 41.490 0.180 41.885 rocCurve 40.673 0.092 40.873 plotMA 36.514 0.215 36.795 compareSteady 35.606 0.147 35.835 modelRates 24.093 0.084 24.226 quantifyExpressionsFromTrCounts 21.803 0.132 21.976 newINSPEcT 20.733 0.068 20.843 processingDelay 18.667 0.060 18.762 makeOscillatorySimModel 9.732 0.044 9.803 compareSteadyNoNascent 7.639 0.052 7.710 inspectFromPCR 5.181 0.048 5.243 * checking for unstated dependencies in vignettes ... OK * checking package vignettes ... OK * checking running R code from vignettes ... SKIPPED * checking re-building of vignette outputs ... SKIPPED * checking PDF version of manual ... OK * DONE Status: 2 NOTEs See ‘/home/biocbuild/bbs-3.21-bioc/meat/INSPEcT.Rcheck/00check.log’ for details.