Package: INSPEcT Version: 1.37.0 Command: /Library/Frameworks/R.framework/Resources/bin/R CMD check --install=check:INSPEcT.install-out.txt --library=/Library/Frameworks/R.framework/Resources/library --no-vignettes --timings INSPEcT_1.37.0.tar.gz StartedAt: 2025-02-09 21:24:12 -0500 (Sun, 09 Feb 2025) EndedAt: 2025-02-09 21:38:13 -0500 (Sun, 09 Feb 2025) EllapsedTime: 841.7 seconds RetCode: 0 Status: OK CheckDir: INSPEcT.Rcheck Warnings: 0