Package: INSPEcT Version: 1.37.0 Command: /Library/Frameworks/R.framework/Resources/bin/R CMD INSTALL INSPEcT StartedAt: 2025-02-09 15:24:38 -0500 (Sun, 09 Feb 2025) EndedAt: 2025-02-09 15:26:02 -0500 (Sun, 09 Feb 2025) EllapsedTime: 84.3 seconds RetCode: 0 Status: OK