Package: INSPEcT Version: 1.37.0 Command: /home/biocbuild/bbs-3.21-bioc/R/bin/R CMD INSTALL INSPEcT StartedAt: 2025-02-04 15:41:56 -0500 (Tue, 04 Feb 2025) EndedAt: 2025-02-04 15:42:57 -0500 (Tue, 04 Feb 2025) EllapsedTime: 60.6 seconds RetCode: 0 Status: OK