Package: INTACT Version: 1.7.0 Command: /Library/Frameworks/R.framework/Resources/bin/R CMD build --keep-empty-dirs --no-resave-data INTACT StartedAt: 2025-02-09 16:42:04 -0500 (Sun, 09 Feb 2025) EndedAt: 2025-02-09 16:42:09 -0500 (Sun, 09 Feb 2025) EllapsedTime: 5.1 seconds RetCode: 0 Status: OK PackageFile: INTACT_1.7.0.tar.gz PackageFileSize: 2.487 MiB