Package: INTACT Version: 1.7.0 Command: /Library/Frameworks/R.framework/Resources/bin/R CMD INSTALL INTACT StartedAt: 2025-02-12 15:05:37 -0500 (Wed, 12 Feb 2025) EndedAt: 2025-02-12 15:05:39 -0500 (Wed, 12 Feb 2025) EllapsedTime: 2.0 seconds RetCode: 0 Status: OK