Package: INTACT Version: 1.7.0 Command: /home/biocbuild/bbs-3.21-bioc/R/bin/R CMD INSTALL INTACT StartedAt: 2025-02-12 15:09:21 -0500 (Wed, 12 Feb 2025) EndedAt: 2025-02-12 15:09:27 -0500 (Wed, 12 Feb 2025) EllapsedTime: 5.4 seconds RetCode: 0 Status: OK