Package: INTACT Version: 1.7.0 Command: chmod a+r INTACT -R && E:\biocbuild\bbs-3.21-bioc\R\bin\R.exe CMD build --keep-empty-dirs --no-resave-data INTACT StartedAt: 2025-02-09 19:23:33 -0500 (Sun, 09 Feb 2025) EndedAt: 2025-02-09 19:23:56 -0500 (Sun, 09 Feb 2025) EllapsedTime: 22.7 seconds RetCode: 0 Status: OK PackageFile: INTACT_1.7.0.tar.gz PackageFileSize: 2.454 MiB