Package: IONiseR Version: 2.31.0 Command: /Library/Frameworks/R.framework/Resources/bin/R CMD build --keep-empty-dirs --no-resave-data IONiseR StartedAt: 2025-02-09 16:42:47 -0500 (Sun, 09 Feb 2025) EndedAt: 2025-02-09 16:43:43 -0500 (Sun, 09 Feb 2025) EllapsedTime: 55.6 seconds RetCode: 0 Status: OK PackageFile: IONiseR_2.31.0.tar.gz PackageFileSize: 4.185 MiB