Package: IONiseR Version: 2.31.0 Command: /Library/Frameworks/R.framework/Resources/bin/R CMD check --install=check:IONiseR.install-out.txt --library=/Library/Frameworks/R.framework/Resources/library --no-vignettes --timings IONiseR_2.31.0.tar.gz StartedAt: 2025-02-03 21:13:24 -0500 (Mon, 03 Feb 2025) EndedAt: 2025-02-03 21:17:59 -0500 (Mon, 03 Feb 2025) EllapsedTime: 275.2 seconds RetCode: 0 Status: OK CheckDir: IONiseR.Rcheck Warnings: 0