Package: IONiseR Version: 2.31.0 Command: /home/biocbuild/bbs-3.21-bioc/R/bin/R CMD check --install=check:IONiseR.install-out.txt --library=/home/biocbuild/bbs-3.21-bioc/R/site-library --timings IONiseR_2.31.0.tar.gz StartedAt: 2025-02-09 23:25:11 -0500 (Sun, 09 Feb 2025) EndedAt: 2025-02-09 23:30:35 -0500 (Sun, 09 Feb 2025) EllapsedTime: 323.3 seconds RetCode: 0 Status: OK CheckDir: IONiseR.Rcheck Warnings: 0